BEGIN:VCALENDAR
VERSION:2.0
PRODID:-//Colonne de Feu - ECPv6.15.20//NONSGML v1.0//EN
CALSCALE:GREGORIAN
METHOD:PUBLISH
X-WR-CALNAME:Colonne de Feu
X-ORIGINAL-URL:https://www.rcc-colonnedefeu.com
X-WR-CALDESC:Évènements pour Colonne de Feu
REFRESH-INTERVAL;VALUE=DURATION:PT1H
X-Robots-Tag:noindex
X-PUBLISHED-TTL:PT1H
BEGIN:VTIMEZONE
TZID:Europe/Paris
BEGIN:DAYLIGHT
TZOFFSETFROM:+0100
TZOFFSETTO:+0200
TZNAME:CEST
DTSTART:20220327T010000
END:DAYLIGHT
BEGIN:STANDARD
TZOFFSETFROM:+0200
TZOFFSETTO:+0100
TZNAME:CET
DTSTART:20221030T010000
END:STANDARD
BEGIN:DAYLIGHT
TZOFFSETFROM:+0100
TZOFFSETTO:+0200
TZNAME:CEST
DTSTART:20230326T010000
END:DAYLIGHT
BEGIN:STANDARD
TZOFFSETFROM:+0200
TZOFFSETTO:+0100
TZNAME:CET
DTSTART:20231029T010000
END:STANDARD
BEGIN:DAYLIGHT
TZOFFSETFROM:+0100
TZOFFSETTO:+0200
TZNAME:CEST
DTSTART:20240331T010000
END:DAYLIGHT
BEGIN:STANDARD
TZOFFSETFROM:+0200
TZOFFSETTO:+0100
TZNAME:CET
DTSTART:20241027T010000
END:STANDARD
BEGIN:DAYLIGHT
TZOFFSETFROM:+0100
TZOFFSETTO:+0200
TZNAME:CEST
DTSTART:20250330T010000
END:DAYLIGHT
BEGIN:STANDARD
TZOFFSETFROM:+0200
TZOFFSETTO:+0100
TZNAME:CET
DTSTART:20251026T010000
END:STANDARD
END:VTIMEZONE
BEGIN:VEVENT
DTSTART;TZID=Europe/Paris:20231106T090000
DTEND;TZID=Europe/Paris:20240112T180000
DTSTAMP:20260424T143200
CREATED:20240112T045249Z
LAST-MODIFIED:20240112T045513Z
UID:1494-1699261200-1705082400@www.rcc-colonnedefeu.com
SUMMARY:Journée communautaire d'adoration et d'intercession
DESCRIPTION:
URL:https://www.rcc-colonnedefeu.com/evenement/journee-communautaire-dadoration-et-dintercession/
LOCATION:CSCF\, Cameroun
END:VEVENT
BEGIN:VEVENT
DTSTART;TZID=Europe/Paris:20231204T090000
DTEND;TZID=Europe/Paris:20240112T180000
DTSTAMP:20260424T143200
CREATED:20240112T050044Z
LAST-MODIFIED:20240112T050044Z
UID:1504-1701680400-1705082400@www.rcc-colonnedefeu.com
SUMMARY:Journée communautaire d'adoration et d'intercession
DESCRIPTION:
URL:https://www.rcc-colonnedefeu.com/evenement/journee-communautaire-dadoration-et-dintercession-2/
LOCATION:CSCF\, Cameroun
END:VEVENT
BEGIN:VEVENT
DTSTART;TZID=Europe/Paris:20240102T090000
DTEND;TZID=Europe/Paris:20240112T180000
DTSTAMP:20260424T143200
CREATED:20240112T050342Z
LAST-MODIFIED:20240112T050342Z
UID:1508-1704186000-1705082400@www.rcc-colonnedefeu.com
SUMMARY:Journée communautaire d'adoration et d'intercession
DESCRIPTION:
URL:https://www.rcc-colonnedefeu.com/evenement/journee-communautaire-dadoration-et-dintercession-3/
LOCATION:CSCF\, Cameroun
END:VEVENT
BEGIN:VEVENT
DTSTART;TZID=Europe/Paris:20240108T080000
DTEND;TZID=Europe/Paris:20240112T160000
DTSTAMP:20260424T143200
CREATED:20240112T050520Z
LAST-MODIFIED:20240112T050520Z
UID:1510-1704700800-1705075200@www.rcc-colonnedefeu.com
SUMMARY:Lancement des Les pôles séminaires de la vie dans l'Esprit
DESCRIPTION:
URL:https://www.rcc-colonnedefeu.com/evenement/lancement-des-les-poles-seminaires-de-la-vie-dans-lesprit/
LOCATION:Les pôles
END:VEVENT
END:VCALENDAR