BEGIN:VCALENDAR
VERSION:2.0
PRODID:-//Colonne de Feu - ECPv6.15.20//NONSGML v1.0//EN
CALSCALE:GREGORIAN
METHOD:PUBLISH
X-WR-CALNAME:Colonne de Feu
X-ORIGINAL-URL:https://www.rcc-colonnedefeu.com
X-WR-CALDESC:Évènements pour Colonne de Feu
REFRESH-INTERVAL;VALUE=DURATION:PT1H
X-Robots-Tag:noindex
X-PUBLISHED-TTL:PT1H
BEGIN:VTIMEZONE
TZID:Europe/Paris
BEGIN:DAYLIGHT
TZOFFSETFROM:+0100
TZOFFSETTO:+0200
TZNAME:CEST
DTSTART:20230326T010000
END:DAYLIGHT
BEGIN:STANDARD
TZOFFSETFROM:+0200
TZOFFSETTO:+0100
TZNAME:CET
DTSTART:20231029T010000
END:STANDARD
BEGIN:DAYLIGHT
TZOFFSETFROM:+0100
TZOFFSETTO:+0200
TZNAME:CEST
DTSTART:20240331T010000
END:DAYLIGHT
BEGIN:STANDARD
TZOFFSETFROM:+0200
TZOFFSETTO:+0100
TZNAME:CET
DTSTART:20241027T010000
END:STANDARD
BEGIN:DAYLIGHT
TZOFFSETFROM:+0100
TZOFFSETTO:+0200
TZNAME:CEST
DTSTART:20250330T010000
END:DAYLIGHT
BEGIN:STANDARD
TZOFFSETFROM:+0200
TZOFFSETTO:+0100
TZNAME:CET
DTSTART:20251026T010000
END:STANDARD
END:VTIMEZONE
BEGIN:VEVENT
DTSTART;TZID=Europe/Paris:20240705T000000
DTEND;TZID=Europe/Paris:20240707T000000
DTSTAMP:20260423T115340
CREATED:20240112T054002Z
LAST-MODIFIED:20240112T054002Z
UID:1576-1720137600-1720310400@www.rcc-colonnedefeu.com
SUMMARY:retraite jeunes
DESCRIPTION:
URL:https://www.rcc-colonnedefeu.com/evenement/retraite-jeunes/
LOCATION:Bertoua\, Cameroun
END:VEVENT
BEGIN:VEVENT
DTSTART;TZID=Europe/Paris:20240706T160000
DTEND;TZID=Europe/Paris:20240708T200000
DTSTAMP:20260423T115340
CREATED:20240112T053857Z
LAST-MODIFIED:20240112T053857Z
UID:1574-1720281600-1720468800@www.rcc-colonnedefeu.com
SUMMARY:Session sur la guérison intérieure
DESCRIPTION:
URL:https://www.rcc-colonnedefeu.com/evenement/session-sur-la-guerison-interieure-5/
LOCATION:CSCF\, Cameroun
END:VEVENT
END:VCALENDAR