BEGIN:VCALENDAR
VERSION:2.0
PRODID:-//Colonne de Feu - ECPv6.15.20//NONSGML v1.0//EN
CALSCALE:GREGORIAN
METHOD:PUBLISH
X-ORIGINAL-URL:https://www.rcc-colonnedefeu.com
X-WR-CALDESC:Évènements pour Colonne de Feu
REFRESH-INTERVAL;VALUE=DURATION:PT1H
X-Robots-Tag:noindex
X-PUBLISHED-TTL:PT1H
BEGIN:VTIMEZONE
TZID:Europe/Paris
BEGIN:DAYLIGHT
TZOFFSETFROM:+0100
TZOFFSETTO:+0200
TZNAME:CEST
DTSTART:20230326T010000
END:DAYLIGHT
BEGIN:STANDARD
TZOFFSETFROM:+0200
TZOFFSETTO:+0100
TZNAME:CET
DTSTART:20231029T010000
END:STANDARD
BEGIN:DAYLIGHT
TZOFFSETFROM:+0100
TZOFFSETTO:+0200
TZNAME:CEST
DTSTART:20240331T010000
END:DAYLIGHT
BEGIN:STANDARD
TZOFFSETFROM:+0200
TZOFFSETTO:+0100
TZNAME:CET
DTSTART:20241027T010000
END:STANDARD
BEGIN:DAYLIGHT
TZOFFSETFROM:+0100
TZOFFSETTO:+0200
TZNAME:CEST
DTSTART:20250330T010000
END:DAYLIGHT
BEGIN:STANDARD
TZOFFSETFROM:+0200
TZOFFSETTO:+0100
TZNAME:CET
DTSTART:20251026T010000
END:STANDARD
END:VTIMEZONE
BEGIN:VEVENT
DTSTART;TZID=Europe/Paris:20240728T080000
DTEND;TZID=Europe/Paris:20240730T170000
DTSTAMP:20260423T133401
CREATED:20240112T054236Z
LAST-MODIFIED:20240112T054236Z
UID:1583-1722153600-1722358800@www.rcc-colonnedefeu.com
SUMMARY:Retraite jeune moins de 25 ans
DESCRIPTION:
URL:https://www.rcc-colonnedefeu.com/evenement/retraite-jeune-moins-de-25-ans/
LOCATION:CSCF Ydé
END:VEVENT
BEGIN:VEVENT
DTSTART;TZID=Europe/Paris:20240729T080000
DTEND;TZID=Europe/Paris:20240730T170000
DTSTAMP:20260423T133401
CREATED:20240112T054324Z
LAST-MODIFIED:20240112T054324Z
UID:1585-1722240000-1722358800@www.rcc-colonnedefeu.com
SUMMARY:Retraite jeune moins de 15 ans
DESCRIPTION:
URL:https://www.rcc-colonnedefeu.com/evenement/retraite-jeune-moins-de-15-ans/
LOCATION:CSCF Ydé
END:VEVENT
END:VCALENDAR