BEGIN:VCALENDAR
VERSION:2.0
PRODID:-//Colonne de Feu - ECPv6.15.20//NONSGML v1.0//EN
CALSCALE:GREGORIAN
METHOD:PUBLISH
X-ORIGINAL-URL:https://www.rcc-colonnedefeu.com
X-WR-CALDESC:Évènements pour Colonne de Feu
REFRESH-INTERVAL;VALUE=DURATION:PT1H
X-Robots-Tag:noindex
X-PUBLISHED-TTL:PT1H
BEGIN:VTIMEZONE
TZID:Europe/Paris
BEGIN:DAYLIGHT
TZOFFSETFROM:+0100
TZOFFSETTO:+0200
TZNAME:CEST
DTSTART:20230326T010000
END:DAYLIGHT
BEGIN:STANDARD
TZOFFSETFROM:+0200
TZOFFSETTO:+0100
TZNAME:CET
DTSTART:20231029T010000
END:STANDARD
BEGIN:DAYLIGHT
TZOFFSETFROM:+0100
TZOFFSETTO:+0200
TZNAME:CEST
DTSTART:20240331T010000
END:DAYLIGHT
BEGIN:STANDARD
TZOFFSETFROM:+0200
TZOFFSETTO:+0100
TZNAME:CET
DTSTART:20241027T010000
END:STANDARD
BEGIN:DAYLIGHT
TZOFFSETFROM:+0100
TZOFFSETTO:+0200
TZNAME:CEST
DTSTART:20250330T010000
END:DAYLIGHT
BEGIN:STANDARD
TZOFFSETFROM:+0200
TZOFFSETTO:+0100
TZNAME:CET
DTSTART:20251026T010000
END:STANDARD
END:VTIMEZONE
BEGIN:VEVENT
DTSTART;TZID=Europe/Paris:20241026T183000
DTEND;TZID=Europe/Paris:20241231T170000
DTSTAMP:20260423T193854
CREATED:20241026T145012Z
LAST-MODIFIED:20241026T145206Z
UID:2735-1729967400-1735664400@www.rcc-colonnedefeu.com
SUMMARY:Rencontre communautaire et prière matinale de la Colonne de Feu Canada
DESCRIPTION:Les membres de la communauté se rassemblent pour une rencontre communautaire chaque vendredi soir et une prière matinale en ligne tous les jeudis matin. Cette rencontre est organisée par la Colonne de Feu Canada\, un groupe de prière.
URL:https://www.rcc-colonnedefeu.com/evenement/rencontre-communautaire-et-priere-matinale-de-la-colonne-de-feu-canada/
LOCATION:Canada\, Canada
CATEGORIES:Événement International
ATTACH;FMTTYPE=image/jpeg:https://www.rcc-colonnedefeu.com/wp-content/uploads/2024/10/internationalevent-canada.jpg
END:VEVENT
BEGIN:VEVENT
DTSTART;TZID=Europe/Paris:20241129T000000
DTEND;TZID=Europe/Paris:20241201T000000
DTSTAMP:20260423T193854
CREATED:20240112T055518Z
LAST-MODIFIED:20240112T055518Z
UID:1609-1732838400-1733011200@www.rcc-colonnedefeu.com
SUMMARY:Cinquantenaire à Bertoua
DESCRIPTION:
URL:https://www.rcc-colonnedefeu.com/evenement/cinquantenaire-a-bertoua/
LOCATION:Bertoua\, Cameroun
END:VEVENT
END:VCALENDAR