BEGIN:VCALENDAR
VERSION:2.0
PRODID:-//Colonne de Feu - ECPv6.15.20//NONSGML v1.0//EN
CALSCALE:GREGORIAN
METHOD:PUBLISH
X-ORIGINAL-URL:https://www.rcc-colonnedefeu.com
X-WR-CALDESC:Évènements pour Colonne de Feu
REFRESH-INTERVAL;VALUE=DURATION:PT1H
X-Robots-Tag:noindex
X-PUBLISHED-TTL:PT1H
BEGIN:VTIMEZONE
TZID:Europe/Paris
BEGIN:DAYLIGHT
TZOFFSETFROM:+0100
TZOFFSETTO:+0200
TZNAME:CEST
DTSTART:20240331T010000
END:DAYLIGHT
BEGIN:STANDARD
TZOFFSETFROM:+0200
TZOFFSETTO:+0100
TZNAME:CET
DTSTART:20241027T010000
END:STANDARD
BEGIN:DAYLIGHT
TZOFFSETFROM:+0100
TZOFFSETTO:+0200
TZNAME:CEST
DTSTART:20250330T010000
END:DAYLIGHT
BEGIN:STANDARD
TZOFFSETFROM:+0200
TZOFFSETTO:+0100
TZNAME:CET
DTSTART:20251026T010000
END:STANDARD
BEGIN:DAYLIGHT
TZOFFSETFROM:+0100
TZOFFSETTO:+0200
TZNAME:CEST
DTSTART:20260329T010000
END:DAYLIGHT
BEGIN:STANDARD
TZOFFSETFROM:+0200
TZOFFSETTO:+0100
TZNAME:CET
DTSTART:20261025T010000
END:STANDARD
END:VTIMEZONE
BEGIN:VEVENT
DTSTART;TZID=Europe/Paris:20250804T080000
DTEND;TZID=Europe/Paris:20250809T170000
DTSTAMP:20260424T041616
CREATED:20241105T001058Z
LAST-MODIFIED:20241105T001058Z
UID:2998-1754294400-1754758800@www.rcc-colonnedefeu.com
SUMMARY:Retraite sur le Thème : Intercession prophétique
DESCRIPTION:Led by Cyril John\, a member of the CHARIS Council in Rome\, responsible for Prophetic Intercession at the Vatican.
URL:https://www.rcc-colonnedefeu.com/evenement/intercession-prophetique/
LOCATION:Vatican\, Holy See (Vatican City State)
CATEGORIES:50-nnaire
END:VEVENT
END:VCALENDAR