BEGIN:VCALENDAR
VERSION:2.0
PRODID:-//Colonne de Feu - ECPv6.15.20//NONSGML v1.0//EN
CALSCALE:GREGORIAN
METHOD:PUBLISH
X-ORIGINAL-URL:https://www.rcc-colonnedefeu.com
X-WR-CALDESC:Évènements pour Colonne de Feu
REFRESH-INTERVAL;VALUE=DURATION:PT1H
X-Robots-Tag:noindex
X-PUBLISHED-TTL:PT1H
BEGIN:VTIMEZONE
TZID:Europe/Paris
BEGIN:DAYLIGHT
TZOFFSETFROM:+0100
TZOFFSETTO:+0200
TZNAME:CEST
DTSTART:20230326T010000
END:DAYLIGHT
BEGIN:STANDARD
TZOFFSETFROM:+0200
TZOFFSETTO:+0100
TZNAME:CET
DTSTART:20231029T010000
END:STANDARD
BEGIN:DAYLIGHT
TZOFFSETFROM:+0100
TZOFFSETTO:+0200
TZNAME:CEST
DTSTART:20240331T010000
END:DAYLIGHT
BEGIN:STANDARD
TZOFFSETFROM:+0200
TZOFFSETTO:+0100
TZNAME:CET
DTSTART:20241027T010000
END:STANDARD
BEGIN:DAYLIGHT
TZOFFSETFROM:+0100
TZOFFSETTO:+0200
TZNAME:CEST
DTSTART:20250330T010000
END:DAYLIGHT
BEGIN:STANDARD
TZOFFSETFROM:+0200
TZOFFSETTO:+0100
TZNAME:CET
DTSTART:20251026T010000
END:STANDARD
END:VTIMEZONE
BEGIN:VEVENT
DTSTART;TZID=Europe/Paris:20240601T160000
DTEND;TZID=Europe/Paris:20240603T200000
DTSTAMP:20260423T103805
CREATED:20240112T053045Z
LAST-MODIFIED:20240112T053045Z
UID:1559-1717257600-1717444800@www.rcc-colonnedefeu.com
SUMMARY:Session sur la guérison intérieure
DESCRIPTION:
URL:https://www.rcc-colonnedefeu.com/evenement/session-sur-la-guerison-interieure-4/
LOCATION:CSCF\, Cameroun
END:VEVENT
BEGIN:VEVENT
DTSTART;TZID=Europe/Paris:20240604T090000
DTEND;TZID=Europe/Paris:20240604T160000
DTSTAMP:20260423T103805
CREATED:20240112T053131Z
LAST-MODIFIED:20240112T053131Z
UID:1561-1717491600-1717516800@www.rcc-colonnedefeu.com
SUMMARY:Rencontre des engagés
DESCRIPTION:
URL:https://www.rcc-colonnedefeu.com/evenement/rencontre-des-engages/
LOCATION:CSCF\, Cameroun
END:VEVENT
BEGIN:VEVENT
DTSTART;TZID=Europe/Paris:20240605T090000
DTEND;TZID=Europe/Paris:20240605T180000
DTSTAMP:20260423T103805
CREATED:20240112T053251Z
LAST-MODIFIED:20240112T053251Z
UID:1563-1717578000-1717610400@www.rcc-colonnedefeu.com
SUMMARY:Journée communautaire d'adoration et d'intercession
DESCRIPTION:
URL:https://www.rcc-colonnedefeu.com/evenement/journee-communautaire-dadoration-et-dintercession-8/
END:VEVENT
BEGIN:VEVENT
DTSTART;TZID=Europe/Paris:20240607T000000
DTEND;TZID=Europe/Paris:20240609T000000
DTSTAMP:20260423T103805
CREATED:20240112T053522Z
LAST-MODIFIED:20240112T053522Z
UID:1565-1717718400-1717891200@www.rcc-colonnedefeu.com
SUMMARY:Cinquantenaire à Ngaoundéré
DESCRIPTION:
URL:https://www.rcc-colonnedefeu.com/evenement/cinquantenaire-a-ngaoundere/
LOCATION:Ngaoundéré
END:VEVENT
BEGIN:VEVENT
DTSTART;TZID=Europe/Paris:20240625T080000
DTEND;TZID=Europe/Paris:20240625T160000
DTSTAMP:20260423T103805
CREATED:20240112T053714Z
LAST-MODIFIED:20240112T053714Z
UID:1570-1719302400-1719331200@www.rcc-colonnedefeu.com
SUMMARY:Assemblée Générale
DESCRIPTION:
URL:https://www.rcc-colonnedefeu.com/evenement/assemblee-generale/
LOCATION:CSCF\, Cameroun
END:VEVENT
BEGIN:VEVENT
DTSTART;TZID=Europe/Paris:20240628T000000
DTEND;TZID=Europe/Paris:20240630T000000
DTSTAMP:20260423T103805
CREATED:20240112T053636Z
LAST-MODIFIED:20240112T053636Z
UID:1567-1719532800-1719705600@www.rcc-colonnedefeu.com
SUMMARY:Cinquantenaire à Batouri
DESCRIPTION:
URL:https://www.rcc-colonnedefeu.com/evenement/cinquantenaire-a-batouri/
LOCATION:Batouri
END:VEVENT
END:VCALENDAR